BEGIN:VCALENDAR
VERSION:2.0
PRODID:-//MCA Academy - ECPv6.15.3//NONSGML v1.0//EN
CALSCALE:GREGORIAN
METHOD:PUBLISH
X-ORIGINAL-URL:https://mcaacademy.com
X-WR-CALDESC:Events for MCA Academy
REFRESH-INTERVAL;VALUE=DURATION:PT1H
X-Robots-Tag:noindex
X-PUBLISHED-TTL:PT1H
BEGIN:VTIMEZONE
TZID:UTC
BEGIN:STANDARD
TZOFFSETFROM:+0000
TZOFFSETTO:+0000
TZNAME:UTC
DTSTART:20230101T000000
END:STANDARD
END:VTIMEZONE
BEGIN:VEVENT
DTSTART;VALUE=DATE:20230810
DTEND;VALUE=DATE:20230817
DTSTAMP:20260421T065336
CREATED:20230610T133517Z
LAST-MODIFIED:20230620T134956Z
UID:1601-1691625600-1692230399@mcaacademy.com
SUMMARY:Teacher Planning Day
DESCRIPTION:Teacher Planning Day – no students in school
URL:https://mcaacademy.com/event/teacher-planning-day-5/
LOCATION:mca academy\, 2911 Grand Avenue\, Suite 500\, Miami\, 33133\, United States
CATEGORIES:Teacher Planning Day
END:VEVENT
BEGIN:VEVENT
DTSTART;VALUE=DATE:20230817
DTEND;VALUE=DATE:20230818
DTSTAMP:20260421T065336
CREATED:20230609T194647Z
LAST-MODIFIED:20230620T140536Z
UID:1247-1692230400-1692316799@mcaacademy.com
SUMMARY:First Day of School
DESCRIPTION:
URL:https://mcaacademy.com/event/first-day-of-school/
LOCATION:mca academy\, 2911 Grand Avenue\, Suite 500\, Miami\, 33133\, United States
CATEGORIES:Begin/End Grading Period,General School Calendar
ATTACH;FMTTYPE=image/jpeg:https://mcaacademy.com/wp-content/uploads/2018/07/first_day_of_school-e1438781915841.jpeg
END:VEVENT
END:VCALENDAR