BEGIN:VCALENDAR
VERSION:2.0
PRODID:-//MCA Academy - ECPv6.15.3//NONSGML v1.0//EN
CALSCALE:GREGORIAN
METHOD:PUBLISH
X-ORIGINAL-URL:https://mcaacademy.com
X-WR-CALDESC:Events for MCA Academy
REFRESH-INTERVAL;VALUE=DURATION:PT1H
X-Robots-Tag:noindex
X-PUBLISHED-TTL:PT1H
BEGIN:VTIMEZONE
TZID:UTC
BEGIN:STANDARD
TZOFFSETFROM:+0000
TZOFFSETTO:+0000
TZNAME:UTC
DTSTART:20230101T000000
END:STANDARD
END:VTIMEZONE
BEGIN:VEVENT
DTSTART;VALUE=DATE:20230320
DTEND;VALUE=DATE:20230325
DTSTAMP:20260420T235032
CREATED:20220728T135300Z
LAST-MODIFIED:20220728T135300Z
UID:1641-1679270400-1679702399@mcaacademy.com
SUMMARY:Spring Break
DESCRIPTION:Spring Break – recess for students and employees
URL:https://mcaacademy.com/event/spring-break-3/
CATEGORIES:Legal Holiday
END:VEVENT
END:VCALENDAR